BEGIN:VCALENDAR
VERSION:2.0
PRODID:event_248
BEGIN:VEVENT
UID:248
SUMMARY:Xerrada: Benestar digital
DESCRIPTION;ENCODING=QUOTED-PRINTABLE:Xerrada a càrrec de Ramon Oromí, responsable de GoTic.
X-ALT-DESC;FMTTYPE=text/html:<b>Xerrada</b> a càrrec de Ramon Oromí, responsable de GoTic.
LOCATION:Local Social Ateneu Tàrrega
CATEGORIES:Activitats
DTSTAMP:20260404T100514
DTSTART:20260407T190000
URL:https://ateneutarrega.cat/ca/e/events/xerrada-benestar-digital-248-1
END:VEVENT
END:VCALENDAR