BEGIN:VCALENDAR
VERSION:2.0
PRODID:event_250
BEGIN:VEVENT
UID:250
SUMMARY:Audiofòrum
LOCATION:Local Social Ateneu Tàrrega
CATEGORIES:Activitats
DTSTAMP:20260404T100604
DTSTART:20260410T203000
URL:https://ateneutarrega.cat/ca/e/events/audioforum-250-1
END:VEVENT
END:VCALENDAR